BEGIN:VCALENDAR
VERSION:2.0
PRODID:-//Concord9553 - ECPv6.15.20//NONSGML v1.0//EN
CALSCALE:GREGORIAN
METHOD:PUBLISH
X-WR-CALNAME:Concord9553
X-ORIGINAL-URL:https://concord9553.org.uk
X-WR-CALDESC:Events for Concord9553
REFRESH-INTERVAL;VALUE=DURATION:PT1H
X-Robots-Tag:noindex
X-PUBLISHED-TTL:PT1H
BEGIN:VTIMEZONE
TZID:Europe/London
BEGIN:DAYLIGHT
TZOFFSETFROM:+0000
TZOFFSETTO:+0100
TZNAME:BST
DTSTART:20190331T010000
END:DAYLIGHT
BEGIN:STANDARD
TZOFFSETFROM:+0100
TZOFFSETTO:+0000
TZNAME:GMT
DTSTART:20191027T010000
END:STANDARD
BEGIN:DAYLIGHT
TZOFFSETFROM:+0000
TZOFFSETTO:+0100
TZNAME:BST
DTSTART:20200329T010000
END:DAYLIGHT
BEGIN:STANDARD
TZOFFSETFROM:+0100
TZOFFSETTO:+0000
TZNAME:GMT
DTSTART:20201025T010000
END:STANDARD
BEGIN:DAYLIGHT
TZOFFSETFROM:+0000
TZOFFSETTO:+0100
TZNAME:BST
DTSTART:20210328T010000
END:DAYLIGHT
BEGIN:STANDARD
TZOFFSETFROM:+0100
TZOFFSETTO:+0000
TZNAME:GMT
DTSTART:20211031T010000
END:STANDARD
END:VTIMEZONE
BEGIN:VEVENT
DTSTART;TZID=Europe/London:20200717T190000
DTEND;TZID=Europe/London:20200717T223000
DTSTAMP:20260424T232643
CREATED:20200125T152520Z
LAST-MODIFIED:20200611T084216Z
UID:254-1595012400-1595025000@concord9553.org.uk
SUMMARY:Concord Lodge Ladies Night - Mansion House\, York - CANCELLED due to COVID-19 See you all next year!
DESCRIPTION:Dear Sir\,\nYou are invited to attend the Concord Ladies Night at 7pm on Saturday 18th July 2020\, at the York City Mansion House\, St Helens Square\, York.\nThis premiere black tie `Ladies Night` event commences as you arrive at the splendid main entrance\, where you will be able to enjoy this unique historic venue\, whilst canapés and refreshments will be served in the state dining room.\nGuests will then be able to make their way to the Grand Hall for an evening of entertainment\, prizes and a bespoke buffet meal.\nThis highly desirable event promises to be an evening of unrivalled enjoyment in a unique and highly cherished venue. It is anticipated that the limited places for this event will be highly sought after and you are therefore encouraged to contact Karen Wedgwood at kcagsy481@yahoo.com as soon as possible; as bookings will be taken on a first come\, first served\, basis. The cost to attend this event is £30.00 per person.\nService medals may be worn.\nI look forward to an excellent night and hope that you are able to join me.\nYours Sincerely \nJohn Wedgwood\nWorshipful Master
URL:https://concord9553.org.uk/event/concord-lodge-ladies-night/
LOCATION:Guildhall York\, St Helens Square\, York\, United Arab Emirates
END:VEVENT
END:VCALENDAR