BEGIN:VCALENDAR
VERSION:2.0
PRODID:-//Concord9553 - ECPv6.15.20//NONSGML v1.0//EN
CALSCALE:GREGORIAN
METHOD:PUBLISH
X-ORIGINAL-URL:https://concord9553.org.uk
X-WR-CALDESC:Events for Concord9553
REFRESH-INTERVAL;VALUE=DURATION:PT1H
X-Robots-Tag:noindex
X-PUBLISHED-TTL:PT1H
BEGIN:VTIMEZONE
TZID:Europe/London
BEGIN:DAYLIGHT
TZOFFSETFROM:+0000
TZOFFSETTO:+0100
TZNAME:BST
DTSTART:20210328T010000
END:DAYLIGHT
BEGIN:STANDARD
TZOFFSETFROM:+0100
TZOFFSETTO:+0000
TZNAME:GMT
DTSTART:20211031T010000
END:STANDARD
BEGIN:DAYLIGHT
TZOFFSETFROM:+0000
TZOFFSETTO:+0100
TZNAME:BST
DTSTART:20220327T010000
END:DAYLIGHT
BEGIN:STANDARD
TZOFFSETFROM:+0100
TZOFFSETTO:+0000
TZNAME:GMT
DTSTART:20221030T010000
END:STANDARD
BEGIN:DAYLIGHT
TZOFFSETFROM:+0000
TZOFFSETTO:+0100
TZNAME:BST
DTSTART:20230326T010000
END:DAYLIGHT
BEGIN:STANDARD
TZOFFSETFROM:+0100
TZOFFSETTO:+0000
TZNAME:GMT
DTSTART:20231029T010000
END:STANDARD
END:VTIMEZONE
BEGIN:VEVENT
DTSTART;TZID=Europe/London:20220907T190000
DTEND;TZID=Europe/London:20220907T210000
DTSTAMP:20260421T233552
CREATED:20200125T154038Z
LAST-MODIFIED:20220825T155656Z
UID:275-1662577200-1662584400@concord9553.org.uk
SUMMARY:Meeting Rehearsal for Installation
DESCRIPTION:
URL:https://concord9553.org.uk/event/meeting-full-rehearsal-3/
LOCATION:Folk Hall\, Hawthorn Terrace\, New Earswick\, York\, Yorkshire\, YO32 4AQ
ORGANIZER;CN="Secretary%2C Concord 9553":MAILTO:hello@concord9553.org.uk
END:VEVENT
END:VCALENDAR