BEGIN:VCALENDAR
VERSION:2.0
PRODID:-//Concord9553 - ECPv6.15.20//NONSGML v1.0//EN
CALSCALE:GREGORIAN
METHOD:PUBLISH
X-ORIGINAL-URL:https://concord9553.org.uk
X-WR-CALDESC:Events for Concord9553
REFRESH-INTERVAL;VALUE=DURATION:PT1H
X-Robots-Tag:noindex
X-PUBLISHED-TTL:PT1H
BEGIN:VTIMEZONE
TZID:Europe/London
BEGIN:DAYLIGHT
TZOFFSETFROM:+0000
TZOFFSETTO:+0100
TZNAME:BST
DTSTART:20200329T010000
END:DAYLIGHT
BEGIN:STANDARD
TZOFFSETFROM:+0100
TZOFFSETTO:+0000
TZNAME:GMT
DTSTART:20201025T010000
END:STANDARD
BEGIN:DAYLIGHT
TZOFFSETFROM:+0000
TZOFFSETTO:+0100
TZNAME:BST
DTSTART:20210328T010000
END:DAYLIGHT
BEGIN:STANDARD
TZOFFSETFROM:+0100
TZOFFSETTO:+0000
TZNAME:GMT
DTSTART:20211031T010000
END:STANDARD
BEGIN:DAYLIGHT
TZOFFSETFROM:+0000
TZOFFSETTO:+0100
TZNAME:BST
DTSTART:20220327T010000
END:DAYLIGHT
BEGIN:STANDARD
TZOFFSETFROM:+0100
TZOFFSETTO:+0000
TZNAME:GMT
DTSTART:20221030T010000
END:STANDARD
END:VTIMEZONE
BEGIN:VEVENT
DTSTART;TZID=Europe/London:20211119T184500
DTEND;TZID=Europe/London:20211119T220000
DTSTAMP:20260422T115826
CREATED:20200125T153945Z
LAST-MODIFIED:20210913T135517Z
UID:272-1637347500-1637359200@concord9553.org.uk
SUMMARY:Regular Lodge Meeting
DESCRIPTION:
URL:https://concord9553.org.uk/event/regular-lodge-meeting-4/
LOCATION:Folk Hall\, Hawthorn Terrace\, York\, Yorkshire\, YO32 4AQ
END:VEVENT
END:VCALENDAR