BEGIN:VCALENDAR
VERSION:2.0
PRODID:-//Concord9553 - ECPv6.15.20//NONSGML v1.0//EN
CALSCALE:GREGORIAN
METHOD:PUBLISH
X-ORIGINAL-URL:https://concord9553.org.uk
X-WR-CALDESC:Events for Concord9553
REFRESH-INTERVAL;VALUE=DURATION:PT1H
X-Robots-Tag:noindex
X-PUBLISHED-TTL:PT1H
BEGIN:VTIMEZONE
TZID:Europe/London
BEGIN:DAYLIGHT
TZOFFSETFROM:+0000
TZOFFSETTO:+0100
TZNAME:BST
DTSTART:20190331T010000
END:DAYLIGHT
BEGIN:STANDARD
TZOFFSETFROM:+0100
TZOFFSETTO:+0000
TZNAME:GMT
DTSTART:20191027T010000
END:STANDARD
BEGIN:DAYLIGHT
TZOFFSETFROM:+0000
TZOFFSETTO:+0100
TZNAME:BST
DTSTART:20200329T010000
END:DAYLIGHT
BEGIN:STANDARD
TZOFFSETFROM:+0100
TZOFFSETTO:+0000
TZNAME:GMT
DTSTART:20201025T010000
END:STANDARD
BEGIN:DAYLIGHT
TZOFFSETFROM:+0000
TZOFFSETTO:+0100
TZNAME:BST
DTSTART:20210328T010000
END:DAYLIGHT
BEGIN:STANDARD
TZOFFSETFROM:+0100
TZOFFSETTO:+0000
TZNAME:GMT
DTSTART:20211031T010000
END:STANDARD
END:VTIMEZONE
BEGIN:VEVENT
DTSTART;TZID=Europe/London:20200619T184500
DTEND;TZID=Europe/London:20200619T220000
DTSTAMP:20260425T173310
CREATED:20200125T151341Z
LAST-MODIFIED:20200611T084331Z
UID:248-1592592300-1592604000@concord9553.org.uk
SUMMARY:Regular Lodge Meeting - CANCELLED COVID-19
DESCRIPTION:
URL:https://concord9553.org.uk/event/regular-lodge-meeting-3/
LOCATION:Folk Hall\, Hawthorn Terrace\, York\, Yorkshire\, YO32 4AQ
END:VEVENT
END:VCALENDAR